BEGIN:VCALENDAR
VERSION:2.0
PRODID:-//81.169.145.68//NONSGML kigkonsult.se iCalcreator 2.20//
CALSCALE:GREGORIAN
METHOD:PUBLISH
X-WR-TIMEZONE:UTC
BEGIN:VEVENT
UID:event318@Rheinische-Provence
DTSTAMP:20260421T101729Z
CATEGORIES:Lesung
DESCRIPTION:Die Schneekönigin\nKategorie: Lesung\nICS-Link: https://www.gel
 be-villa.net/index.php?option=com_jem&view=event&id=318:die-schneekoenigin
 \n
DTSTART:20160328T150000Z
DTEND:20160328T150000Z
LOCATION:Gelbe Villa\,Nussallee 27\,50354 Hürth
SUMMARY:Die Schneekönigin
URL:https://www.gelbe-villa.net/index.php?option=com_jem&view=event&id=318:
 die-schneekoenigin
END:VEVENT
END:VCALENDAR