BEGIN:VCALENDAR
VERSION:2.0
PRODID:-//81.169.145.68//NONSGML kigkonsult.se iCalcreator 2.20//
CALSCALE:GREGORIAN
METHOD:PUBLISH
X-WR-TIMEZONE:UTC
BEGIN:VEVENT
UID:event325@Rheinische-Provence
DTSTAMP:20260421T101957Z
CATEGORIES:Konzerte
DESCRIPTION:Liederabend mit Anna Fischer & Theo Palm\nKategorie: Konzerte\n
 ICS-Link: https://www.gelbe-villa.net/index.php?option=com_jem&view=event&
 id=325:liederabend-mit-anna-fischer\n
DTSTART;VALUE=DATE:20161029
DTEND;VALUE=DATE:20161030
LOCATION:Gelbe Villa\,Nussallee 27\,50354 Hürth
SUMMARY:Liederabend mit Anna Fischer & Theo Palm
URL:https://www.gelbe-villa.net/index.php?option=com_jem&view=event&id=325:
 liederabend-mit-anna-fischer
END:VEVENT
END:VCALENDAR