BEGIN:VCALENDAR
VERSION:2.0
PRODID:-//81.169.145.68//NONSGML kigkonsult.se iCalcreator 2.20//
CALSCALE:GREGORIAN
METHOD:PUBLISH
X-WR-TIMEZONE:UTC
BEGIN:VEVENT
UID:event335@Rheinische-Provence
DTSTAMP:20260421T094833Z
CATEGORIES:Konzerte
DESCRIPTION:Klaviertrio Enis Hotaj\nKategorie: Konzerte\nICS-Link: https://
 www.gelbe-villa.net/index.php?option=com_jem&view=event&id=335:klaviertrio
 -enis-hotaj\n
DTSTART:20170225T200000Z
DTEND:20170225T200000Z
LOCATION:Gelbe Villa\,Nussallee 27\,50354 Hürth
SUMMARY:Klaviertrio Enis Hotaj
URL:https://www.gelbe-villa.net/index.php?option=com_jem&view=event&id=335:
 klaviertrio-enis-hotaj
END:VEVENT
END:VCALENDAR