BEGIN:VCALENDAR
VERSION:2.0
PRODID:-//81.169.145.68//NONSGML kigkonsult.se iCalcreator 2.20//
CALSCALE:GREGORIAN
METHOD:PUBLISH
X-WR-TIMEZONE:UTC
BEGIN:VEVENT
UID:event340@Rheinische-Provence
DTSTAMP:20260421T102213Z
CATEGORIES:Konzerte
DESCRIPTION:Konzert für Klavier zu vier Händen\nKategorie: Konzerte\nICS-L
 ink: https://www.gelbe-villa.net/index.php?option=com_jem&view=event&id=34
 0:konzert-fu-r-klavier-zu-vier-haenden\n
DTSTART:20170128T200000Z
DTEND:20170128T200000Z
LOCATION:Gelbe Villa\,Nussallee 27\,50354 Hürth
SUMMARY:Konzert für Klavier zu vier Händen
URL:https://www.gelbe-villa.net/index.php?option=com_jem&view=event&id=340:
 konzert-fu-r-klavier-zu-vier-haenden
END:VEVENT
END:VCALENDAR