BEGIN:VCALENDAR
VERSION:2.0
PRODID:-//81.169.145.68//NONSGML kigkonsult.se iCalcreator 2.20//
CALSCALE:GREGORIAN
METHOD:PUBLISH
X-WR-TIMEZONE:UTC
BEGIN:VEVENT
UID:event377@Rheinische-Provence
DTSTAMP:20260421T092226Z
CATEGORIES:Konzerte
DESCRIPTION:Duo Accordara\nKategorie: Konzerte\nICS-Link: https://www.gelbe
 -villa.net/index.php?option=com_jem&view=event&id=377:duo-accordara\n
DTSTART:20190120T190000Z
DTEND:20190120T190000Z
LOCATION:Gelbe Villa\,Nussallee 27\,50354 Hürth
SUMMARY:Duo Accordara
URL:https://www.gelbe-villa.net/index.php?option=com_jem&view=event&id=377:
 duo-accordara
END:VEVENT
END:VCALENDAR