BEGIN:VCALENDAR
VERSION:2.0
PRODID:-//81.169.145.68//NONSGML kigkonsult.se iCalcreator 2.20//
CALSCALE:GREGORIAN
METHOD:PUBLISH
X-WR-TIMEZONE:UTC
BEGIN:VEVENT
UID:event390@Rheinische-Provence
DTSTAMP:20260421T101903Z
CATEGORIES:Konzerte
DESCRIPTION:Chansonabend mit Les copains d´abord\nKategorie: Konzerte\nICS-
 Link: https://www.gelbe-villa.net/index.php?option=com_jem&view=event&id=3
 90:chansonabend-mit-les-copains-d-abord\n
DTSTART:20191026T200000Z
DTEND:20191026T200000Z
LOCATION:Gelbe Villa\,Nussallee 27\,50354 Hürth
SUMMARY:Chansonabend mit Les copains d´abord
URL:https://www.gelbe-villa.net/index.php?option=com_jem&view=event&id=390:
 chansonabend-mit-les-copains-d-abord
END:VEVENT
END:VCALENDAR