BEGIN:VCALENDAR
VERSION:2.0
PRODID:-//81.169.145.68//NONSGML kigkonsult.se iCalcreator 2.20//
CALSCALE:GREGORIAN
METHOD:PUBLISH
X-WR-TIMEZONE:UTC
BEGIN:VEVENT
UID:event394@Rheinische-Provence
DTSTAMP:20260421T101317Z
CATEGORIES:Konzerte
DESCRIPTION:Klavierabend - Mori-Trio\nKategorie: Konzerte\nICS-Link: https:
 //www.gelbe-villa.net/index.php?option=com_jem&view=event&id=394:klavierab
 end-mori-trio\n
DTSTART:20200131T200000Z
DTEND:20200131T200000Z
LOCATION:Gelbe Villa\,Nussallee 27\,50354 Hürth
SUMMARY:Klavierabend - Mori-Trio
URL:https://www.gelbe-villa.net/index.php?option=com_jem&view=event&id=394:
 klavierabend-mori-trio
END:VEVENT
END:VCALENDAR