BEGIN:VCALENDAR
VERSION:2.0
PRODID:-//81.169.145.68//NONSGML kigkonsult.se iCalcreator 2.20//
CALSCALE:GREGORIAN
METHOD:PUBLISH
X-WR-TIMEZONE:UTC
BEGIN:VEVENT
UID:event406@Rheinische-Provence
DTSTAMP:20260421T102920Z
CATEGORIES:Mitmachkrimi
DESCRIPTION:Matinée: Musica Mortalis\nKategorie: Mitmachkrimi\nICS-Link: ht
 tps://www.gelbe-villa.net/index.php?option=com_jem&view=event&id=406:matin
 ee-musica-mortalis\n
DTSTART:20201101T110000Z
DTEND:20201101T110000Z
LOCATION:Gelbe Villa\,Nussallee 27\,50354 Hürth
SUMMARY:Matinée: Musica Mortalis
URL:https://www.gelbe-villa.net/index.php?option=com_jem&view=event&id=406:
 matinee-musica-mortalis
END:VEVENT
END:VCALENDAR