BEGIN:VCALENDAR
VERSION:2.0
PRODID:-//81.169.145.68//NONSGML kigkonsult.se iCalcreator 2.20//
CALSCALE:GREGORIAN
METHOD:PUBLISH
X-WR-TIMEZONE:UTC
BEGIN:VEVENT
UID:event408@Rheinische-Provence
DTSTAMP:20260421T084037Z
CATEGORIES:Mitmachkrimi
DESCRIPTION:Lesung mit Bossanova\nKategorie: Mitmachkrimi\nICS-Link: https:
 //www.gelbe-villa.net/index.php?option=com_jem&view=event&id=408:lesung-mi
 t-bossanova\n
DTSTART:20200719T110000Z
DTEND:20200719T110000Z
LOCATION:Gelbe Villa\,Nussallee 27\,50354 Hürth
SUMMARY:Lesung mit Bossanova
URL:https://www.gelbe-villa.net/index.php?option=com_jem&view=event&id=408:
 lesung-mit-bossanova
END:VEVENT
END:VCALENDAR