BEGIN:VCALENDAR
VERSION:2.0
PRODID:-//81.169.145.68//NONSGML kigkonsult.se iCalcreator 2.20//
CALSCALE:GREGORIAN
METHOD:PUBLISH
X-WR-TIMEZONE:UTC
BEGIN:VEVENT
UID:event425@Rheinische-Provence
DTSTAMP:20260421T095028Z
CATEGORIES:Konzerte
DESCRIPTION:Kammermusikabend für Violine und Klavier\nKategorie: Konzerte\n
 ICS-Link: https://www.gelbe-villa.net/index.php?option=com_jem&view=event&
 id=425:kammermusikabend\n
DTSTART:20211212T190000Z
DTEND:20211212T190000Z
LOCATION:Gelbe Villa\,Nussallee 27\,50354 Hürth
SUMMARY:Kammermusikabend für Violine und Klavier
URL:https://www.gelbe-villa.net/index.php?option=com_jem&view=event&id=425:
 kammermusikabend
END:VEVENT
END:VCALENDAR