BEGIN:VCALENDAR
VERSION:2.0
PRODID:-//81.169.145.68//NONSGML kigkonsult.se iCalcreator 2.20//
CALSCALE:GREGORIAN
METHOD:PUBLISH
X-WR-TIMEZONE:UTC
BEGIN:VEVENT
UID:event430@Rheinische-Provence
DTSTAMP:20260421T080721Z
CATEGORIES:Konzerte-alt
DESCRIPTION:Flohmarkt\nKategorie: Konzerte-alt\nICS-Link: https://www.gelbe
 -villa.net/index.php?option=com_jem&view=event&id=430:flohmarkt\n
DTSTART:20220723T110000Z
DTEND:20220724T170000Z
LOCATION:Gelbe Villa\,Nussallee 27\,50354 Hürth
SUMMARY:Flohmarkt
URL:https://www.gelbe-villa.net/index.php?option=com_jem&view=event&id=430:
 flohmarkt
END:VEVENT
END:VCALENDAR