BEGIN:VCALENDAR
VERSION:2.0
PRODID:-//81.169.145.68//NONSGML kigkonsult.se iCalcreator 2.20//
CALSCALE:GREGORIAN
METHOD:PUBLISH
X-WR-TIMEZONE:UTC
BEGIN:VEVENT
UID:event442@Rheinische-Provence
DTSTAMP:20260421T083557Z
CATEGORIES:Konzerte
DESCRIPTION:Musikalische Weltreise  mit dem Duo Todah\nKategorie: Konzerte
 \nICS-Link: https://www.gelbe-villa.net/index.php?option=com_jem&view=even
 t&id=442:duo-todah\n
DTSTART:20230827T170000Z
DTEND:20230827T170000Z
LOCATION:Gelbe Villa\,Nussallee 27\,50354 Hürth
SUMMARY:Musikalische Weltreise  mit dem Duo Todah
URL:https://www.gelbe-villa.net/index.php?option=com_jem&view=event&id=442:
 duo-todah
END:VEVENT
END:VCALENDAR