BEGIN:VCALENDAR
VERSION:2.0
PRODID:-//81.169.145.68//NONSGML kigkonsult.se iCalcreator 2.20//
CALSCALE:GREGORIAN
METHOD:PUBLISH
X-WR-TIMEZONE:UTC
BEGIN:VEVENT
UID:event445@Rheinische-Provence
DTSTAMP:20260421T090221Z
CATEGORIES:Konzerte
DESCRIPTION:Die Winterreise\nKategorie: Konzerte\nICS-Link: https://www.gel
 be-villa.net/index.php?option=com_jem&view=event&id=445:die-winterreise\n
DTSTART:20230326T190000Z
DTEND:20230326T190000Z
LOCATION:Gelbe Villa\,Nussallee 27\,50354 Hürth
SUMMARY:Die Winterreise
URL:https://www.gelbe-villa.net/index.php?option=com_jem&view=event&id=445:
 die-winterreise
END:VEVENT
END:VCALENDAR