BEGIN:VCALENDAR
VERSION:2.0
PRODID:-//81.169.145.68//NONSGML kigkonsult.se iCalcreator 2.20//
CALSCALE:GREGORIAN
METHOD:PUBLISH
X-WR-TIMEZONE:UTC
BEGIN:VEVENT
UID:event454@Rheinische-Provence
DTSTAMP:20260421T102316Z
CATEGORIES:Konzerte
DESCRIPTION:Busoni und seine Helden \nKategorie: Konzerte\nICS-Link: https:
 //www.gelbe-villa.net/index.php?option=com_jem&view=event&id=454:busoni-un
 d-seine-helden\n
DTSTART:20240309T190000Z
DTEND:20240309T190000Z
LOCATION:Gelbe Villa\,Nussallee 27\,50354 Hürth
SUMMARY:Busoni und seine Helden 
URL:https://www.gelbe-villa.net/index.php?option=com_jem&view=event&id=454:
 busoni-und-seine-helden
END:VEVENT
END:VCALENDAR