BEGIN:VCALENDAR
VERSION:2.0
PRODID:-//81.169.145.68//NONSGML kigkonsult.se iCalcreator 2.20//
CALSCALE:GREGORIAN
METHOD:PUBLISH
X-WR-TIMEZONE:UTC
BEGIN:VEVENT
UID:event487@Rheinische-Provence
DTSTAMP:20260421T101729Z
CATEGORIES:Konzerte
DESCRIPTION:Klangbrücken zwischen Epochen\nKategorie: Konzerte\nICS-Link: h
 ttps://www.gelbe-villa.net/index.php?option=com_jem&view=event&id=487:duo-
 cello-und-klavier\n
DTSTART:20250914T190000Z
DTEND:20250914T190000Z
LOCATION:Gelbe Villa\,Nussallee 27\,50354 Hürth
SUMMARY:Klangbrücken zwischen Epochen
URL:https://www.gelbe-villa.net/index.php?option=com_jem&view=event&id=487:
 duo-cello-und-klavier
END:VEVENT
END:VCALENDAR